BEGIN:VCALENDAR
VERSION:2.0
PRODID:-//Fort Worth Sister Cities - ECPv6.7.1//NONSGML v1.0//EN
CALSCALE:GREGORIAN
METHOD:PUBLISH
X-ORIGINAL-URL:https://www.fwsistercities.org
X-WR-CALDESC:Events for Fort Worth Sister Cities
REFRESH-INTERVAL;VALUE=DURATION:PT1H
X-Robots-Tag:noindex
X-PUBLISHED-TTL:PT1H
BEGIN:VTIMEZONE
TZID:America/New_York
BEGIN:DAYLIGHT
TZOFFSETFROM:-0500
TZOFFSETTO:-0400
TZNAME:EDT
DTSTART:20190310T070000
END:DAYLIGHT
BEGIN:STANDARD
TZOFFSETFROM:-0400
TZOFFSETTO:-0500
TZNAME:EST
DTSTART:20191103T060000
END:STANDARD
END:VTIMEZONE
BEGIN:VEVENT
DTSTART;VALUE=DATE:20191031
DTEND;VALUE=DATE:20191105
DTSTAMP:20260422T185650
CREATED:20190604T134556Z
LAST-MODIFIED:20191028T144737Z
UID:16493-1572480000-1572911999@www.fwsistercities.org
SUMMARY:Celebrate Dia de los Muertos
DESCRIPTION:TRIP IS CLOSED.\nTravel with Fort Worth Sister Cities International and experience the traditional\, modern and historical wonders of Mexico. This is a unique and exclusive trip where you will get to know Mexico as a local.\n\nTravel as an ambassador of Fort Worth along with city leaders while fulfilling our goal to strengthen this relationship between the peoples of these two great cities. We’ll be greeted as guests when we arrive in Toluca\, Fort Worth’s Sister City of 20+ years.\n\nCheck out the tentative itinerary
URL:https://www.fwsistercities.org/event/dia-de-los-muertos/
CATEGORIES:Upcoming Exchanges
ATTACH;FMTTYPE=image/png:https://www.fwsistercities.org/wp-content/uploads/website-banner-skulls.png
END:VEVENT
END:VCALENDAR