BEGIN:VCALENDAR
VERSION:2.0
PRODID:-//Fort Worth Sister Cities - ECPv6.7.1//NONSGML v1.0//EN
CALSCALE:GREGORIAN
METHOD:PUBLISH
X-ORIGINAL-URL:https://www.fwsistercities.org
X-WR-CALDESC:Events for Fort Worth Sister Cities
REFRESH-INTERVAL;VALUE=DURATION:PT1H
X-Robots-Tag:noindex
X-PUBLISHED-TTL:PT1H
BEGIN:VTIMEZONE
TZID:America/New_York
BEGIN:DAYLIGHT
TZOFFSETFROM:-0500
TZOFFSETTO:-0400
TZNAME:EDT
DTSTART:20200308T070000
END:DAYLIGHT
BEGIN:STANDARD
TZOFFSETFROM:-0400
TZOFFSETTO:-0500
TZNAME:EST
DTSTART:20201101T060000
END:STANDARD
END:VTIMEZONE
BEGIN:VEVENT
DTSTART;TZID=America/New_York:20200324T170000
DTEND;TZID=America/New_York:20200324T183000
DTSTAMP:20260422T120243
CREATED:20200225T174330Z
LAST-MODIFIED:20200316T192058Z
UID:17791-1585069200-1585074600@www.fwsistercities.org
SUMMARY:Italy informational meeting - CANCELED
DESCRIPTION:Learn about our journey to the “Bel Paese\,” beautiful country\, and how you can explore the pockets of Italy that make the country a classic. We will provide you an update on travel plans and itinerary\, hear your suggestions\, answer questions and continue planning. Please RSVP to Mae at mae@fwsistercities.org.\n\nFind out more
URL:https://www.fwsistercities.org/event/italy-informational-meeting/
LOCATION:Classic Wine Storage\, 2915 Riverglen Dr.\, Fort Worth\, TX\, 76109\, United States
CATEGORIES:International Events,Upcoming Exchanges
ATTACH;FMTTYPE=image/png:https://www.fwsistercities.org/wp-content/uploads/italy-35.png
END:VEVENT
END:VCALENDAR