BEGIN:VCALENDAR
VERSION:2.0
PRODID:-//Fort Worth Sister Cities - ECPv6.7.1//NONSGML v1.0//EN
CALSCALE:GREGORIAN
METHOD:PUBLISH
X-WR-CALNAME:Fort Worth Sister Cities
X-ORIGINAL-URL:https://www.fwsistercities.org
X-WR-CALDESC:Events for Fort Worth Sister Cities
REFRESH-INTERVAL;VALUE=DURATION:PT1H
X-Robots-Tag:noindex
X-PUBLISHED-TTL:PT1H
BEGIN:VTIMEZONE
TZID:America/New_York
BEGIN:DAYLIGHT
TZOFFSETFROM:-0500
TZOFFSETTO:-0400
TZNAME:EDT
DTSTART:20230312T070000
END:DAYLIGHT
BEGIN:STANDARD
TZOFFSETFROM:-0400
TZOFFSETTO:-0500
TZNAME:EST
DTSTART:20231105T060000
END:STANDARD
END:VTIMEZONE
BEGIN:VEVENT
DTSTART;VALUE=DATE:20230617
DTEND;VALUE=DATE:20230627
DTSTAMP:20260421T223543
CREATED:20221213T211010Z
LAST-MODIFIED:20230316T155643Z
UID:19070-1686960000-1687823999@www.fwsistercities.org
SUMMARY:From Munich to the Mosel
DESCRIPTION:Join Fort Worth Sister Cities International as we explore Germany! Discover castles\, festivals\, beer and wine – and amazingly generous and hospitable people. \n\nRegister by Jan. 27\, 2023.\n\nFind out more.
URL:https://www.fwsistercities.org/event/from-munich-to-the-mosel/
CATEGORIES:Upcoming Exchanges
ATTACH;FMTTYPE=image/webp:https://www.fwsistercities.org/wp-content/uploads/urzig-2066628_1280.webp
ORGANIZER;CN="Trier Committee":MAILTO:beth@fwsistercities.org
END:VEVENT
END:VCALENDAR