BEGIN:VCALENDAR
VERSION:2.0
PRODID:-//Fort Worth Sister Cities - ECPv6.7.1//NONSGML v1.0//EN
CALSCALE:GREGORIAN
METHOD:PUBLISH
X-ORIGINAL-URL:https://www.fwsistercities.org
X-WR-CALDESC:Events for Fort Worth Sister Cities
REFRESH-INTERVAL;VALUE=DURATION:PT1H
X-Robots-Tag:noindex
X-PUBLISHED-TTL:PT1H
BEGIN:VTIMEZONE
TZID:America/New_York
BEGIN:DAYLIGHT
TZOFFSETFROM:-0500
TZOFFSETTO:-0400
TZNAME:EDT
DTSTART:20230312T070000
END:DAYLIGHT
BEGIN:STANDARD
TZOFFSETFROM:-0400
TZOFFSETTO:-0500
TZNAME:EST
DTSTART:20231105T060000
END:STANDARD
END:VTIMEZONE
BEGIN:VEVENT
DTSTART;VALUE=DATE:20230522
DTEND;VALUE=DATE:20230703
DTSTAMP:20260420T184811
CREATED:20201218T172150Z
LAST-MODIFIED:20230209T210112Z
UID:18148-1684713600-1688342399@www.fwsistercities.org
SUMMARY:The Experiment Digital
DESCRIPTION:Fort Worth Sister Cities International has an incredible opportunity for high school students (grades 9-12) to participate in a State Department sponsored program called the Experiment Digital. This program is scheduled for six weeks for this summer and is free of charge and 100 percent digital.\n\nStudents selected for the program will interact with high school students from Iraq\, Yemen\, Algeria\, Tunisia\, Bahrain\, Libya\, Jordan and others.\n\nApplicants must:\n\n 	be between the ages of 14-19 or currently enrolled in high school\n 	speak basic English\n 	commit to 4 hours per week for 6 weeks during the summer of 2023\n\nThe priority enrollment deadline is Feb. 15\, with a final deadline of March 27.\n\nOn the application\, students should answer “yes” to the question\, “Were you nominated to apply by your sponsoring organization?” Then choose Fort Worth Sister Cities International from the drop down list.\n\nApply now.\nFind out more.
URL:https://www.fwsistercities.org/event/the-experiment-digital/
CATEGORIES:Youth Leadership Events
ATTACH;FMTTYPE=image/jpeg:https://www.fwsistercities.org/wp-content/uploads/experiment_20digital.jpg
ORGANIZER;CN="World Learning":MAILTO:info@experiment.org
END:VEVENT
END:VCALENDAR