BEGIN:VCALENDAR
VERSION:2.0
PRODID:-//Fort Worth Sister Cities - ECPv6.7.1//NONSGML v1.0//EN
CALSCALE:GREGORIAN
METHOD:PUBLISH
X-ORIGINAL-URL:https://www.fwsistercities.org
X-WR-CALDESC:Events for Fort Worth Sister Cities
REFRESH-INTERVAL;VALUE=DURATION:PT1H
X-Robots-Tag:noindex
X-PUBLISHED-TTL:PT1H
BEGIN:VTIMEZONE
TZID:America/New_York
BEGIN:DAYLIGHT
TZOFFSETFROM:-0500
TZOFFSETTO:-0400
TZNAME:EDT
DTSTART:20230312T070000
END:DAYLIGHT
BEGIN:STANDARD
TZOFFSETFROM:-0400
TZOFFSETTO:-0500
TZNAME:EST
DTSTART:20231105T060000
END:STANDARD
END:VTIMEZONE
BEGIN:VEVENT
DTSTART;VALUE=DATE:20230708
DTEND;VALUE=DATE:20230724
DTSTAMP:20260421T093345
CREATED:20180122T175931Z
LAST-MODIFIED:20221215T190201Z
UID:14134-1688774400-1690156799@www.fwsistercities.org
SUMMARY:International Leadership Academy
DESCRIPTION:Join this dynamic summer leadership program bringing Fort Worth students together with high school students from around the world. This year’s theme\, “Peace Builders” will encourage students to explore how we see other cultures and understand global influences while using youth leadership skills to promote world peace through service to their communities. Through the program they will gain essential leadership and communication skills from cross-cultural activities such as art\, music\, and language studies and incorporate these into how they can make their communities a more peaceful place. \n\nFind out more and apply.\n\nPay the membership fee.\n\nMake a payment.
URL:https://www.fwsistercities.org/event/international-leadership-academy/
CATEGORIES:Youth Leadership Events
ATTACH;FMTTYPE=image/jpeg:https://www.fwsistercities.org/wp-content/uploads/294778699_1446233415895121_1320903590446688052_n-e1670968883913.jpg
END:VEVENT
END:VCALENDAR