BEGIN:VCALENDAR
VERSION:2.0
PRODID:-//Fort Worth Sister Cities - ECPv6.7.1//NONSGML v1.0//EN
CALSCALE:GREGORIAN
METHOD:PUBLISH
X-WR-CALNAME:Fort Worth Sister Cities
X-ORIGINAL-URL:https://www.fwsistercities.org
X-WR-CALDESC:Events for Fort Worth Sister Cities
REFRESH-INTERVAL;VALUE=DURATION:PT1H
X-Robots-Tag:noindex
X-PUBLISHED-TTL:PT1H
BEGIN:VTIMEZONE
TZID:America/New_York
BEGIN:DAYLIGHT
TZOFFSETFROM:-0500
TZOFFSETTO:-0400
TZNAME:EDT
DTSTART:20230312T070000
END:DAYLIGHT
BEGIN:STANDARD
TZOFFSETFROM:-0400
TZOFFSETTO:-0500
TZNAME:EST
DTSTART:20231105T060000
END:STANDARD
END:VTIMEZONE
BEGIN:VEVENT
DTSTART;TZID=America/New_York:20231015T140000
DTEND;TZID=America/New_York:20231015T160000
DTSTAMP:20260420T175411
CREATED:20230912T194645Z
LAST-MODIFIED:20230912T194927Z
UID:19480-1697378400-1697385600@www.fwsistercities.org
SUMMARY:Global Extravaganza
DESCRIPTION:You’re invited to Fort Worth Youth International’s Global Extravaganza! To kick off the year\, the youth board invites you to enjoy cultural presentations on our nine sister cities.\n\nEven more\, you will learn about all the ways you can be involved with sister cities throughout the school year through Youth Ambassador exchanges\, hosting\, community service projects\, and much more. Bring a friend and come join us!\n\nRegister to attend.\n\nFind out more about youth programs.
URL:https://www.fwsistercities.org/event/global-extravaganza/
LOCATION:UNT Health Science Center\, 3500 Camp Bowie Blvd.\, Fort Worth\, TX\, 76107\, United States
CATEGORIES:Youth Leadership Events
ATTACH;FMTTYPE=image/jpeg:https://www.fwsistercities.org/wp-content/uploads/Water-Gardens-group-in-fountain-scaled.jpg
ORGANIZER;CN="Fort Worth Youth International":MAILTO:paige@fwsistercities.org
END:VEVENT
END:VCALENDAR