BEGIN:VCALENDAR
VERSION:2.0
PRODID:-//Fort Worth Sister Cities - ECPv6.7.1//NONSGML v1.0//EN
CALSCALE:GREGORIAN
METHOD:PUBLISH
X-ORIGINAL-URL:https://www.fwsistercities.org
X-WR-CALDESC:Events for Fort Worth Sister Cities
REFRESH-INTERVAL;VALUE=DURATION:PT1H
X-Robots-Tag:noindex
X-PUBLISHED-TTL:PT1H
BEGIN:VTIMEZONE
TZID:America/New_York
BEGIN:DAYLIGHT
TZOFFSETFROM:-0500
TZOFFSETTO:-0400
TZNAME:EDT
DTSTART:20240310T070000
END:DAYLIGHT
BEGIN:STANDARD
TZOFFSETFROM:-0400
TZOFFSETTO:-0500
TZNAME:EST
DTSTART:20241103T060000
END:STANDARD
END:VTIMEZONE
BEGIN:VEVENT
DTSTART;TZID=America/New_York:20240521T173000
DTEND;TZID=America/New_York:20240521T190000
DTSTAMP:20260421T075245
CREATED:20230424T164320Z
LAST-MODIFIED:20240425T152326Z
UID:19283-1716312600-1716318000@www.fwsistercities.org
SUMMARY:Young Artists & Authors Showcase reception
DESCRIPTION:Join us for a special reception celebrating the winners and participants in the Young Artists & Authors Showcase. Please confirm your attendance to by May 13.\n\nRegister to attend.\nSee the 2024 Fort Worth winners.
URL:https://www.fwsistercities.org/event/young-artists-authors-showcase-reception/
LOCATION:Kinfolk House\, 1913 Wallace St.\, Fort Worth\, 76105\, United States
CATEGORIES:Youth Leadership Events
ATTACH;FMTTYPE=image/jpeg:https://www.fwsistercities.org/wp-content/uploads/Daydream.jpg
END:VEVENT
END:VCALENDAR