BEGIN:VCALENDAR
VERSION:2.0
PRODID:-//Fort Worth Sister Cities - ECPv6.7.1//NONSGML v1.0//EN
CALSCALE:GREGORIAN
METHOD:PUBLISH
X-ORIGINAL-URL:https://www.fwsistercities.org
X-WR-CALDESC:Events for Fort Worth Sister Cities
REFRESH-INTERVAL;VALUE=DURATION:PT1H
X-Robots-Tag:noindex
X-PUBLISHED-TTL:PT1H
BEGIN:VTIMEZONE
TZID:America/New_York
BEGIN:DAYLIGHT
TZOFFSETFROM:-0500
TZOFFSETTO:-0400
TZNAME:EDT
DTSTART:20240310T070000
END:DAYLIGHT
BEGIN:STANDARD
TZOFFSETFROM:-0400
TZOFFSETTO:-0500
TZNAME:EST
DTSTART:20241103T060000
END:STANDARD
END:VTIMEZONE
BEGIN:VEVENT
DTSTART;TZID=America/New_York:20240613T173000
DTEND;TZID=America/New_York:20240613T190000
DTSTAMP:20260420T235201
CREATED:20240513T152518Z
LAST-MODIFIED:20240522T201815Z
UID:19815-1718299800-1718305200@www.fwsistercities.org
SUMMARY:Saveurs de Nîmes: A Taste of Nîmes & Beyond
DESCRIPTION:Begin to explore the culture and traditions of Nîmes through this hands-on cooking class and tasting! Join us for this culinary experience to learn how to prepare one of the most famous dishes known to all the locals in Nîmes. Let’s dive into in the local color through the history and music of the region.\n\nRegister.
URL:https://www.fwsistercities.org/event/saveurs-de-nimes-a-taste-of-nimes-beyond/
LOCATION:Home of Brent Hyder\, 4900 Bryce\, Fort Worth\, TX\, 76107\, United States
CATEGORIES:International Events
ATTACH;FMTTYPE=image/png:https://www.fwsistercities.org/wp-content/uploads/saveurs-de-nimes.png
ORGANIZER;CN="N%C3%AEmes Committee":MAILTO:beth@fwsistercities.org
END:VEVENT
END:VCALENDAR