BEGIN:VCALENDAR
VERSION:2.0
PRODID:-//Fort Worth Sister Cities - ECPv6.7.1//NONSGML v1.0//EN
CALSCALE:GREGORIAN
METHOD:PUBLISH
X-WR-CALNAME:Fort Worth Sister Cities
X-ORIGINAL-URL:https://www.fwsistercities.org
X-WR-CALDESC:Events for Fort Worth Sister Cities
REFRESH-INTERVAL;VALUE=DURATION:PT1H
X-Robots-Tag:noindex
X-PUBLISHED-TTL:PT1H
BEGIN:VTIMEZONE
TZID:America/New_York
BEGIN:DAYLIGHT
TZOFFSETFROM:-0500
TZOFFSETTO:-0400
TZNAME:EDT
DTSTART:20240310T070000
END:DAYLIGHT
BEGIN:STANDARD
TZOFFSETFROM:-0400
TZOFFSETTO:-0500
TZNAME:EST
DTSTART:20241103T060000
END:STANDARD
END:VTIMEZONE
BEGIN:VEVENT
DTSTART;VALUE=DATE:20240718
DTEND;VALUE=DATE:20240728
DTSTAMP:20260423T045145
CREATED:20231212T213340Z
LAST-MODIFIED:20231219T211053Z
UID:19559-1721260800-1722124799@www.fwsistercities.org
SUMMARY:Magyar Marvels: Tour of Hungary
DESCRIPTION:A trip to Hungary promises a captivating blend of rich history\, vibrant culture\, and breathtaking landscapes. Begin your journey in Budapest\, the capital and our sister city\, where the iconic Buda Castle and Fisherman’s Bastion offer panoramic views of the Danube River.\n\nVenture beyond Budapest to explore the charming towns of Eger\, Szentendre and Lake Balaton\, each boasting unique architecture and cultural heritage. Indulge in Hungarian cuisine\, savoring goulash\, chimney cake\, and renowned local wines. The Great Plain\, with its vast landscapes and traditional horse shows\, provides a glimpse into rural Hungary.\n\nRegister by Feb. 15\, 2024\n\nRegister.\nSee tentative itinerary.
URL:https://www.fwsistercities.org/event/magyar-marvels/
CATEGORIES:Upcoming Exchanges
ATTACH;FMTTYPE=image/png:https://www.fwsistercities.org/wp-content/uploads/bridge-and-parliament.png
END:VEVENT
END:VCALENDAR