BEGIN:VCALENDAR
VERSION:2.0
PRODID:-//Fort Worth Sister Cities - ECPv6.7.1//NONSGML v1.0//EN
CALSCALE:GREGORIAN
METHOD:PUBLISH
X-ORIGINAL-URL:https://www.fwsistercities.org
X-WR-CALDESC:Events for Fort Worth Sister Cities
REFRESH-INTERVAL;VALUE=DURATION:PT1H
X-Robots-Tag:noindex
X-PUBLISHED-TTL:PT1H
BEGIN:VTIMEZONE
TZID:America/New_York
BEGIN:DAYLIGHT
TZOFFSETFROM:-0500
TZOFFSETTO:-0400
TZNAME:EDT
DTSTART:20250309T070000
END:DAYLIGHT
BEGIN:STANDARD
TZOFFSETFROM:-0400
TZOFFSETTO:-0500
TZNAME:EST
DTSTART:20251102T060000
END:STANDARD
END:VTIMEZONE
BEGIN:VEVENT
DTSTART;VALUE=DATE:20250329
DTEND;VALUE=DATE:20250409
DTSTAMP:20260422T152702
CREATED:20240401T193610Z
LAST-MODIFIED:20250210T161447Z
UID:19736-1743206400-1744156799@www.fwsistercities.org
SUMMARY:From Reggio to Rome: An Exploration of Italian Culture
DESCRIPTION:$1000 Deposit Deadline: Nov. 1\nDiscover the heart of italy “From Reggio to Rome.” This 11-day journey offers a perfect blend of culture\, cuisine\, and history. \nBegin in Reggio Emilia\, Fort Worth’s sister city\, where you’ll be officially welcomed as an ambassador. Immerse yourself in local traditions\, learn to make authentic tortelli pasta\, and enjoy a home-hosted dinner. Visit a Parmigiano Reggiano cheese factory and savor exquisite Lambrusco wines. \nThen\, explore the eternal city of Rome. Walk in the footsteps of gladiators at the Colosseum\, marvel at the Sistine Chapel\, and master the art of pizza-making. Toss a coin in the Trevi Fountain and uncover the secrets of ancient Rome. \nDon’t miss this chance to experience the best of Italy’s rich traditions\, mouthwatering cuisine\, and awe-inspiring history. Space is limited – secure your spot today for the adventure of a lifetime! \nRegister.
URL:https://www.fwsistercities.org/event/reggio-to-rome/
CATEGORIES:Upcoming Exchanges
ATTACH;FMTTYPE=image/png:https://www.fwsistercities.org/wp-content/uploads/piazza-prampolini.png
END:VEVENT
END:VCALENDAR