BEGIN:VCALENDAR
VERSION:2.0
PRODID:-//Fort Worth Sister Cities - ECPv6.7.1//NONSGML v1.0//EN
CALSCALE:GREGORIAN
METHOD:PUBLISH
X-WR-CALNAME:Fort Worth Sister Cities
X-ORIGINAL-URL:https://www.fwsistercities.org
X-WR-CALDESC:Events for Fort Worth Sister Cities
REFRESH-INTERVAL;VALUE=DURATION:PT1H
X-Robots-Tag:noindex
X-PUBLISHED-TTL:PT1H
BEGIN:VTIMEZONE
TZID:America/New_York
BEGIN:DAYLIGHT
TZOFFSETFROM:-0500
TZOFFSETTO:-0400
TZNAME:EDT
DTSTART:20230312T070000
END:DAYLIGHT
BEGIN:STANDARD
TZOFFSETFROM:-0400
TZOFFSETTO:-0500
TZNAME:EST
DTSTART:20231105T060000
END:STANDARD
END:VTIMEZONE
BEGIN:VEVENT
DTSTART;VALUE=DATE:20230722
DTEND;VALUE=DATE:20230731
DTSTAMP:20260421T223638
CREATED:20171026T173042Z
LAST-MODIFIED:20250606T152319Z
UID:538-1689984000-1690761599@www.fwsistercities.org
SUMMARY:Tricolore Games
DESCRIPTION:The Tricolore Games\, held every four years in Fort Worth’s sister city\, Reggio Emilia\, Italy\, began due to admiration for the world Olympic Games and their ability to create peace and unity among people.\n\nFort Worth Sister Cities International partners with local schools and sports teams who are responsible for preselecting team members based on their sport’s requirements and Sister Cities’ guidelines. Selected team members and coaches attend team and cultural orientations and cover all expenses pertaining to their participation.\n\n\nNearly 80 Fort Worth students attended the Tricolore Games in Reggio Emilia in 2018.
URL:https://www.fwsistercities.org/event/tricolore-youth-sports-games/
CATEGORIES:Upcoming Exchanges,Youth Leadership Events
ATTACH;FMTTYPE=image/jpeg:https://www.fwsistercities.org/wp-content/uploads/363436587_1013377723107836_375460550954351420_n.jpg
END:VEVENT
END:VCALENDAR