BEGIN:VCALENDAR
VERSION:2.0
PRODID:-//Fort Worth Sister Cities - ECPv6.7.1//NONSGML v1.0//EN
CALSCALE:GREGORIAN
METHOD:PUBLISH
X-ORIGINAL-URL:https://www.fwsistercities.org
X-WR-CALDESC:Events for Fort Worth Sister Cities
REFRESH-INTERVAL;VALUE=DURATION:PT1H
X-Robots-Tag:noindex
X-PUBLISHED-TTL:PT1H
BEGIN:VTIMEZONE
TZID:America/New_York
BEGIN:DAYLIGHT
TZOFFSETFROM:-0500
TZOFFSETTO:-0400
TZNAME:EDT
DTSTART:20240310T070000
END:DAYLIGHT
BEGIN:STANDARD
TZOFFSETFROM:-0400
TZOFFSETTO:-0500
TZNAME:EST
DTSTART:20241103T060000
END:STANDARD
END:VTIMEZONE
BEGIN:VEVENT
DTSTART;TZID=America/New_York:20240321T173000
DTEND;TZID=America/New_York:20240321T190000
DTSTAMP:20260421T063937
CREATED:20240223T172208Z
LAST-MODIFIED:20240228T223056Z
UID:19680-1711042200-1711047600@www.fwsistercities.org
SUMMARY:Goulash & Grapes
DESCRIPTION:Indulge in an unforgettable evening of Hungarian culture with our exclusive event featuring the rich flavors of renowned Hungarian wines paired with a traditional goulash\, prepared to perfection by Joe Czabajszki. Let your taste buds embark on a journey through Hungary’s culinary heritage as you enjoy an evening filled with warmth\, flavor\, and camaraderie.\n\nRegister.
URL:https://www.fwsistercities.org/event/goulash-grapes/
LOCATION:Sanders Travel\, 3550 Hulen St Ste A\, Fort Worth\, TX\, 76107\, United States
CATEGORIES:International Events
ATTACH;FMTTYPE=image/png:https://www.fwsistercities.org/wp-content/uploads/gulyasgrapes.png
END:VEVENT
BEGIN:VEVENT
DTSTART;TZID=America/New_York:20240327T180000
DTEND;TZID=America/New_York:20240327T200000
DTSTAMP:20260421T063937
CREATED:20240301T174231Z
LAST-MODIFIED:20240301T175243Z
UID:19705-1711562400-1711569600@www.fwsistercities.org
SUMMARY:Global Trivia Night
DESCRIPTION:Join us for a night of global trivia at Martin House Brewing Company! Test your knowledge on cultures\, geography\, history\, and more while enjoying delicious craft beer. Bring your friends and compete for prizes as you show off your expertise on topics from around the world. Don’t miss out on this exciting evening of brews and brainpower!\n\nRegister.
URL:https://www.fwsistercities.org/event/global-trivia-night/
LOCATION:Martin House Brewing Company\, 220 S. Sylvania Ave.\, Fort Worth\, 76111
ATTACH;FMTTYPE=image/png:https://www.fwsistercities.org/wp-content/uploads/beer-map.png
END:VEVENT
END:VCALENDAR